BEGIN:VCALENDAR
VERSION:2.0
CALSCALE:GREGORIAN
PRODID:-//Calndr//Calndr 1.1.0//EN
BEGIN:VTIMEZONE
TZID:Asia/Taipei
X-MICROSOFT-CDO-TZID:75
BEGIN:STANDARD
DTSTART:20210611T170000
TZOFFSETFROM:+0800
TZOFFSETTO:+0800
TZNAME:CST
END:STANDARD
END:VTIMEZONE
BEGIN:VEVENT
UID:9b8ccb4d6401314a1e09f5aff84211b3
DTSTAMP:20220520T102908Z
SUMMARY:MSIology: Ahead of the Curve June 2022
DTSTART;TZID=Asia/Taipei:20220607T010000
DTEND;TZID=Asia/Taipei:20220607T020000
DESCRIPTION:We are ready and excited to unveil the new HX series laptop lin
 eup in MSIology: Ahead of the Curve June 2022. Please join our online laun
 ch streaming on June 6th at 10:30 PM (IST). Watch it on https://msi.gm/MSI
 ology_YT and win a raffle!
LOCATION:https://msi.gm/MSIology_YT
END:VEVENT
END:VCALENDAR
